BEGIN:VCALENDAR
VERSION:2.0
PRODID:-//ChamberMaster//Event Calendar 2.0//EN
METHOD:PUBLISH
X-PUBLISHED-TTL:P3D
REFRESH-INTERVAL:P3D
CALSCALE:GREGORIAN
BEGIN:VEVENT
DTSTART:20140303T233000Z
DTEND:20140409T233000Z
X-MICROSOFT-CDO-ALLDAYEVENT:FALSE
SUMMARY:Piloxing Classes
DESCRIPTION:Piloxing is non-stop cardio fusion class that combines intervals of boxing\, standing Pilates and dance. The intervals allow you to burn maximum calories\, build lean muscles and increase stamina. Sara Giboney\, a certified fitness instructor and certified Piloxing instructor\, will teach this high energy class through Kearney Park and Recreation.
X-ALT-DESC;FMTTYPE=text/html:Piloxing is non-stop cardio fusion class that combines intervals of boxing\, standing Pilates and dance. The intervals allow you to burn maximum calories\, build lean muscles and increase stamina. Sara Giboney\, a certified fitness instructor and certified Piloxing instructor\, will teach this high energy class through Kearney Park and Recreation.
LOCATION:Harmon Park Activity Center
UID:e.1404.4521
SEQUENCE:3
DTSTAMP:20260423T145506Z
URL:https://members.kearneycoc.org/events/details/piloxing-classes-03-03-2014-4521
END:VEVENT

END:VCALENDAR
