BEGIN:VCALENDAR
VERSION:2.0
PRODID:-//ChamberMaster//Event Calendar 2.0//EN
METHOD:PUBLISH
X-PUBLISHED-TTL:P3D
REFRESH-INTERVAL:P3D
CALSCALE:GREGORIAN
BEGIN:VEVENT
DTSTART:20200715T160000Z
DTEND:20200715T170000Z
X-MICROSOFT-CDO-ALLDAYEVENT:FALSE
SUMMARY:Platte Institute Webinar: Back in Session with Appropriations Committee Chair Sen. John Stinner
DESCRIPTION:Join the Platte Institute Webinar on Zoom as Sen. John Stinner\, the head of the Nebraska Legislature's budget-writing committee\, discusses what the latest data on tax receipts will mean for the conclusion of this year's legislative session and the state's policy priorities. All Platte Institute Webinars are free to attend include Q&A. Registration required. Webinar recordings can be found at PlatteInstitute.org/Podcasts.
X-ALT-DESC;FMTTYPE=text/html:Join the Platte Institute Webinar on Zoom as Sen. John Stinner\, the head of the Nebraska Legislature&rsquo\;s budget-writing committee\, discusses what the latest data on tax receipts will mean for the conclusion of this year&rsquo\;s legislative session and the state&rsquo\;s policy priorities. All Platte Institute Webinars are free to attend include Q&amp\;A. Registration required. Webinar recordings can be found at PlatteInstitute.org/Podcasts.
LOCATION:Online through Zoom Webinars
UID:e.1404.18655
SEQUENCE:3
DTSTAMP:20260425T033701Z
URL:https://members.kearneycoc.org/events/details/platte-institute-webinar-back-in-session-with-appropriations-committee-chair-sen-john-stinner-18655
END:VEVENT

END:VCALENDAR
