BEGIN:VCALENDAR
VERSION:2.0
PRODID:-//ChamberMaster//Event Calendar 2.0//EN
METHOD:PUBLISH
X-PUBLISHED-TTL:P3D
REFRESH-INTERVAL:P3D
CALSCALE:GREGORIAN
BEGIN:VEVENT
DTSTART:20200701T160000Z
DTEND:20200701T170000Z
X-MICROSOFT-CDO-ALLDAYEVENT:FALSE
SUMMARY:Platte Institute Webinar: Back in Session with Speaker Jim Scheer and Executive Board Chair Sen. Mike Hilgers
DESCRIPTION:Join the Platte Institute Webinar on Zoom as Nebraska Legislature Speaker Jim Scheer and Unicameral Executive Board Chair and Sen. Mike Hilgers provide their thoughts on the return of the 2020 Nebraska Legislature for its remaining 17 legislative days. All Platte Institute Webinars are free to attend include Q&A. Registration required. Webinar recordings can be found at PlatteInstitute.org/Podcasts.
X-ALT-DESC;FMTTYPE=text/html:Join the Platte Institute Webinar on Zoom as Nebraska Legislature Speaker Jim Scheer and Unicameral Executive Board Chair and Sen. Mike Hilgers provide their thoughts on the return of the 2020 Nebraska Legislature for its remaining 17 legislative days. All Platte Institute Webinars are free to attend include Q&amp\;A. Registration required. Webinar recordings can be found at PlatteInstitute.org/Podcasts.
LOCATION:Online through Zoom Webinars
UID:e.1404.18650
SEQUENCE:3
DTSTAMP:20260425T033839Z
URL:https://members.kearneycoc.org/events/details/platte-institute-webinar-back-in-session-with-speaker-jim-scheer-and-executive-board-chair-sen-mike-hilgers-07-01-2020-18650
END:VEVENT

END:VCALENDAR
