BEGIN:VCALENDAR
VERSION:2.0
PRODID:-//ChamberMaster//Event Calendar 2.0//EN
METHOD:PUBLISH
X-PUBLISHED-TTL:P3D
REFRESH-INTERVAL:P3D
CALSCALE:GREGORIAN
BEGIN:VEVENT
DTSTART:20161015T220000Z
DTEND:20161016T003000Z
X-MICROSOFT-CDO-ALLDAYEVENT:FALSE
SUMMARY:Platte Valley Medical Group 60th Anniversary
DESCRIPTION:Please join us in celebrating 60 years of medical practice at Platte Valley Medical Group. Saturday October 15th from 5:00-7:30 PM\, at the Platte Valley Medical Group Atrium. Please RSVP by October 12th\, 2016 to Courtney
X-ALT-DESC;FMTTYPE=text/html:Please join us in celebrating 60 years of medical practice at Platte Valley Medical Group. Saturday October 15th from 5:00-7:30 PM\, at the Platte Valley Medical Group Atrium. Please RSVP by October 12th\, 2016 to Courtney
LOCATION:Platte Valley Medical Group Atrium 816 22nd Ave.\, Ste 100 Kearney\, NE 68845
UID:e.1404.9062
SEQUENCE:3
DTSTAMP:20260421T122717Z
URL:https://members.kearneycoc.org/events/details/platte-valley-medical-group-60th-anniversary-9062
END:VEVENT

END:VCALENDAR
