BEGIN:VCALENDAR
VERSION:2.0
PRODID:-//ChamberMaster//Event Calendar 2.0//EN
METHOD:PUBLISH
X-PUBLISHED-TTL:P3D
REFRESH-INTERVAL:P3D
CALSCALE:GREGORIAN
BEGIN:VEVENT
DTSTART:20131223T000000Z
DTEND:20131223T020000Z
X-MICROSOFT-CDO-ALLDAYEVENT:FALSE
SUMMARY:Polar Express Movie & Storytelling
DESCRIPTION:Event:  Polar Express  Storytelling & Movie Date:  Sunday\, December 22nd Time: 6:00 pm  Ticket Price: Adults $5.00   Children $.25 (4th grade and under) (tickets available at MindenOperaHouse.com or by calling 308-832-0588) Advance ticket purchases REQUIRED as space is limited. The evening begins with the reading of the ?Polar Express? book by professional storyteller Mary Henning. At the conclusion of the storytelling\, cookies & hot chocolate are served (along with a special appearance by Santa & Mrs. Claus) with the feature film following the refreshments. The event is geared toward families with children ages 4th grade and under. Children are welcome to bring their pillows and come dressed in their pajamas for this evening of Christmas magic.
X-ALT-DESC;FMTTYPE=text/html:Event: &nbsp\;Polar Express&nbsp\; Storytelling &amp\; Movie Date: &nbsp\;Sunday\, December 22nd Time: 6:00 pm&nbsp\; Ticket Price: Adults $5.00 &nbsp\; Children $.25 (4th grade and under) (tickets available at MindenOperaHouse.com or by calling 308-832-0588) Advance ticket purchases REQUIRED as space is limited. The evening begins with the reading of the ?Polar Express? book by professional storyteller Mary Henning. At the conclusion of the storytelling\, cookies &amp\; hot chocolate are served (along with a special appearance by Santa &amp\; Mrs. Claus) with the feature film following the refreshments. The event is geared toward families with children ages 4th grade and under. Children are welcome to bring their pillows and come dressed in their pajamas for this evening of Christmas magic.&nbsp\; 
LOCATION:Minden Opera House 322 East 5th Minden\, NE
UID:e.1404.3388
SEQUENCE:3
DTSTAMP:20260423T212832Z
URL:https://members.kearneycoc.org/events/details/polar-express-movie-storytelling-12-22-2013-3388
END:VEVENT

END:VCALENDAR
