BEGIN:VCALENDAR
VERSION:2.0
PRODID:-//ChamberMaster//Event Calendar 2.0//EN
METHOD:PUBLISH
X-PUBLISHED-TTL:P3D
REFRESH-INTERVAL:P3D
CALSCALE:GREGORIAN
BEGIN:VEVENT
DTSTART:20201112T230000Z
DTEND:20201113T010000Z
X-MICROSOFT-CDO-ALLDAYEVENT:FALSE
SUMMARY:POSTPONED - BAH - Runza
DESCRIPTION:Join us for a Business After Hours at Runza's south location! They have recently remodeled!
X-ALT-DESC;FMTTYPE=text/html:Join us for a Business After Hours at <a href="https://www.runza.com/">Runza&#39\;s</a> south location! They have recently remodeled!
LOCATION:815 2nd Ave E
UID:e.1404.18767
SEQUENCE:3
DTSTAMP:20260424T191141Z
URL:https://members.kearneycoc.org/events/details/postponed-bah-runza-18767
END:VEVENT

END:VCALENDAR
