BEGIN:VCALENDAR
VERSION:2.0
PRODID:-//ChamberMaster//Event Calendar 2.0//EN
METHOD:PUBLISH
X-PUBLISHED-TTL:P3D
REFRESH-INTERVAL:P3D
CALSCALE:GREGORIAN
BEGIN:VEVENT
DTSTART:20201119T220000Z
DTEND:20201119T223000Z
X-MICROSOFT-CDO-ALLDAYEVENT:FALSE
SUMMARY:POSTPONED - RC - Paul Davis of Central Nebraska-Kearney
DESCRIPTION:Join us for a Ribbon Cutting ceremony for Paul Davis of Central Nebraska-Kearney! Open house to follow.
X-ALT-DESC;FMTTYPE=text/html:Join us for a Ribbon Cutting ceremony for <a href="https://central-nebraska.pauldavis.com/">Paul Davis of Central Nebraska</a>-Kearney! Open house to follow.&nbsp\;&nbsp\;
LOCATION:2102 E Hwy 30 Suite 2 Kearney NE
UID:e.1404.18755
SEQUENCE:3
DTSTAMP:20260424T192540Z
URL:https://members.kearneycoc.org/events/details/postponed-rc-paul-davis-of-central-nebraska-kearney-18755
END:VEVENT

END:VCALENDAR
