BEGIN:VCALENDAR
VERSION:2.0
PRODID:-//ChamberMaster//Event Calendar 2.0//EN
METHOD:PUBLISH
X-PUBLISHED-TTL:P3D
REFRESH-INTERVAL:P3D
CALSCALE:GREGORIAN
BEGIN:VEVENT
DTSTART:20201014T200000Z
DTEND:20201014T203000Z
X-MICROSOFT-CDO-ALLDAYEVENT:FALSE
SUMMARY:POSTPONED - RC - Two Rivers Public Health Department
DESCRIPTION:Join us for a Ribbon Cutting ceremony for Two Rivers Public Health Department! Masks are required indoors and outdoors.
X-ALT-DESC;FMTTYPE=text/html:Join us for a Ribbon Cutting ceremony for <a href="https://www.trphd.org/">Two Rivers Public Health Department</a>! Masks are required indoors and outdoors.&nbsp\;&nbsp\;
LOCATION:516 W 11th St. Ste 108B Kearney NE
UID:e.1404.18706
SEQUENCE:3
DTSTAMP:20260424T205110Z
URL:https://members.kearneycoc.org/events/details/postponed-rc-two-rivers-public-health-department-18706
END:VEVENT

END:VCALENDAR
