BEGIN:VCALENDAR
VERSION:2.0
PRODID:-//ChamberMaster//Event Calendar 2.0//EN
METHOD:PUBLISH
X-PUBLISHED-TTL:P3D
REFRESH-INTERVAL:P3D
CALSCALE:GREGORIAN
BEGIN:VEVENT
DTSTART:20190714T180000Z
DTEND:20190714T200000Z
X-MICROSOFT-CDO-ALLDAYEVENT:FALSE
SUMMARY:Pouncing on Plaster
DESCRIPTION:Pouncing on Plaster Pouncing on plaster is a centuries-old method of transferring a drawing to a plaster surface\, ready for painting. In this class\, learn how to make a plaster slab\, approximately 12 x 9 x 1.5 inches. A second pre-made dry plaster slab will be provided for experimenting with the pouncing technique\, and for painting your selected subject-matter with luminous liquid watercolors. For your subject\, please bring images/photographs\, e.g.\, a self-portrait\, pictures of pets\, designs\, etc. Make sure your image fits well within the 12 x 9 inch format. All art supplies will be provided. Sunday: July 14 Time: 1:00-3:00 p.m. Instructor: Jackie Abell Age: 16+ Cost: $25 (MONA members)\; $30 (non-members) Register by: Monday\, July 8
X-ALT-DESC;FMTTYPE=text/html:Pouncing on Plaster Pouncing on plaster is a centuries-old method of transferring a drawing to a plaster surface\, ready for painting. In this class\, learn how to make a plaster slab\, approximately 12 x 9 x 1.5 inches. A second pre-made dry plaster slab will be provided for experimenting with the pouncing technique\, and for painting your selected subject-matter with luminous liquid watercolors. For your subject\, please bring images/photographs\, e.g.\, a self-portrait\, pictures of pets\, designs\, etc. Make sure your image fits well within the 12 x 9 inch format. All art supplies will be provided. Sunday: July 14 Time: 1:00-3:00 p.m. Instructor: Jackie Abell Age: 16+ Cost: $25 (MONA members)\; $30 (non-members) Register by: Monday\, July 8
LOCATION:Museum of Nebraska Art 2401 Central Avenue Kearney\, NE 68847 (308) 865-8559
UID:e.1404.16494
SEQUENCE:3
DTSTAMP:20260425T212724Z
URL:https://members.kearneycoc.org/events/details/pouncing-on-plaster-16494
END:VEVENT

END:VCALENDAR
