BEGIN:VCALENDAR
VERSION:2.0
PRODID:-//ChamberMaster//Event Calendar 2.0//EN
METHOD:PUBLISH
X-PUBLISHED-TTL:P3D
REFRESH-INTERVAL:P3D
CALSCALE:GREGORIAN
BEGIN:VEVENT
DTSTART:20141108T230000Z
DTEND:20141109T030000Z
X-MICROSOFT-CDO-ALLDAYEVENT:FALSE
SUMMARY:Prairie Hills Pheasants Forever Banquet
DESCRIPTION:It's the time of year when your local Prairie Hills Pheasants Forever chapter hosts the annual banquet. Our annual banquet is not only one of the premier local events\, but is among one of the top five PF banquets held in the state. \n\n\n\nOn Saturday\, November 8\, 2014 at the Younes Conference Center we will hold our 18th annual banquet. Doors open at 5:00 PM and dinner starts at 7 PM.\n\n\n\nMembership-$35.00\n\nDinner-$25.00\n\nChildren 9 & under-$10.00\n\n5 & under-free\n\n\n\nFor more information\, contact Ron Svacina (308) 236-7760.
X-ALT-DESC;FMTTYPE=text/html:It&#39\;s the time of year when your local Prairie Hills Pheasants Forever chapter hosts the annual banquet. Our annual banquet is not only one of the premier local events\, but is among one of the top five PF banquets held in the state.&nbsp\;<br />\n<br />\nOn Saturday\, November 8\, 2014 at the Younes Conference Center we will hold our 18th annual banquet. Doors open at 5:00 PM and dinner starts at 7 PM.<br />\n<br />\nMembership-$35.00<br />\nDinner-$25.00<br />\nChildren 9 &amp\; under-$10.00<br />\n5 &amp\; under-free<br />\n<br />\nFor more information\, contact Ron Svacina&nbsp\;(308) 236-7760.
LOCATION:Younes Conference Center
UID:e.1404.5404
SEQUENCE:3
DTSTAMP:20260423T034328Z
URL:https://members.kearneycoc.org/events/details/prairie-hills-pheasants-forever-banquet-11-08-2014-5404
END:VEVENT

END:VCALENDAR
