BEGIN:VCALENDAR
VERSION:2.0
PRODID:-//ChamberMaster//Event Calendar 2.0//EN
METHOD:PUBLISH
X-PUBLISHED-TTL:P3D
REFRESH-INTERVAL:P3D
CALSCALE:GREGORIAN
BEGIN:VEVENT
DTSTART:20191109T150000Z
DTEND:20191109T160000Z
X-MICROSOFT-CDO-ALLDAYEVENT:FALSE
SUMMARY:Prep Digitally for Holidays
DESCRIPTION:For many\, there never seems to be enough time in a day. During the holiday season\, though\, the lack of time is amplified to where it can feel overwhelming\, especially when so much needs to be done before that first present is opened. Whether it's finding the perfect turkey recipe\, checking off that long gift list or sifting through the best deals\, the holidays can be more complicated than necessary. However\, thanks to the continued evolution of apps and mobile technology\, these times of worry can quickly disappear\, especially with the help of U.S. Cellular's experts. U.S. Cellular associates in Kearney will host a free Device Workshop\, where they can provide tips to help make holiday decorating\, cooking and shopping easier and more fun. The workshop is open to everyone. You do not need to be a U.S. Cellular customer to attend. "Thanks to our knowledgeable associates\, U.S. Cellular is making the stress of the holidays melt away faster than ever\," said Mike Adams\, U.S. Cellular's director of sales for Nebraska and Iowa. "Along with our strong network\, which allows users to continue to simplify their shopping and cooking to-do lists\, and these informative workshops\, a hassle-free holiday season is the perfect gift that everyone can enjoy." Please call 308-236-2075 for more information.
X-ALT-DESC;FMTTYPE=text/html:For many\, there never seems to be enough time in a day. During the holiday season\, though\, the lack of time is amplified to where it can feel overwhelming\, especially when so much needs to be done before that first present is opened. Whether it&rsquo\;s finding the perfect turkey recipe\, checking off that long gift list or sifting through the best deals\, the holidays can be more complicated than necessary. However\, thanks to the continued evolution of apps and mobile technology\, these times of worry can quickly disappear\, especially with the help of U.S. Cellular&rsquo\;s experts. U.S. Cellular associates in Kearney will host a free Device Workshop\, where they can provide tips to help make holiday decorating\, cooking and shopping easier and more fun. The workshop is open to everyone. You do not need to be a U.S. Cellular customer to attend. &ldquo\;Thanks to our knowledgeable associates\, U.S. Cellular is making the stress of the holidays melt away faster than ever\,&rdquo\; said Mike Adams\, U.S. Cellular&rsquo\;s director of sales for Nebraska and Iowa. &ldquo\;Along with our strong network\, which allows users to continue to simplify their shopping and cooking to-do lists\, and these informative workshops\, a hassle-free holiday season is the perfect gift that everyone can enjoy.&rdquo\; Please call 308-236-2075 for more information.
LOCATION:U.S. Cellular 5306 Second Ave. Kearney\, NE 68845
UID:e.1404.18252
SEQUENCE:3
DTSTAMP:20260425T145907Z
URL:https://members.kearneycoc.org/events/details/prep-digitally-for-holidays-18252
END:VEVENT

END:VCALENDAR
