BEGIN:VCALENDAR
VERSION:2.0
PRODID:-//ChamberMaster//Event Calendar 2.0//EN
METHOD:PUBLISH
X-PUBLISHED-TTL:P3D
REFRESH-INTERVAL:P3D
CALSCALE:GREGORIAN
BEGIN:VEVENT
DTSTART:20210224T010000Z
DTEND:20210228T023000Z
X-MICROSOFT-CDO-ALLDAYEVENT:FALSE
SUMMARY:“Pretty Fire”
DESCRIPTION:Crane River Theater presents "Pretty Fire" by Charlayne Woodard. The stage is bare except for a wooden bench and a young African-American woman. Then the lyrical\, lifting words of Charlayne Woodard begin weaving stories of two young sisters in the small world of Albany\, New York\; of Ku Klux Klan riders burning a cross in a hilltop town in Georgia\; of three generations of family love\, struggle and triumph. And suddenly that empty stage becomes crowded with the authentic\, mesmerizing experience of contemporary African-American life. "Pretty Fire" is an enthralling celebration of life filled with humor and hope. Presented at the newly renovated World Theatre in downtown Kearney\, this one-woman tour de force will take audiences on a journey through a world in which the family bond is as strong as steel. COVID-19 Safety Measures: Crane River Theater values the health and safety of all audience members. Appropriate safety protocols will be put in place to ensure a safe performance experience. If you have questions regarding these safety measures\, please call our office at 308-627-5796.
X-ALT-DESC;FMTTYPE=text/html:Crane River Theater presents &ldquo\;Pretty Fire&rdquo\; by Charlayne Woodard. The stage is bare except for a wooden bench and a young African-American woman. Then the lyrical\, lifting words of Charlayne Woodard begin weaving stories of two young sisters in the small world of Albany\, New York\; of Ku Klux Klan riders burning a cross in a hilltop town in Georgia\; of three generations of family love\, struggle and triumph. And suddenly that empty stage becomes crowded with the authentic\, mesmerizing experience of contemporary African-American life. &ldquo\;Pretty Fire&rdquo\; is an enthralling celebration of life filled with humor and hope. Presented at the newly renovated World Theatre in downtown Kearney\, this one-woman tour de force will take audiences on a journey through a world in which the family bond is as strong as steel. COVID-19 Safety Measures: Crane River Theater values the health and safety of all audience members. Appropriate safety protocols will be put in place to ensure a safe performance experience. If you have questions regarding these safety measures\, please call our office at 308-627-5796.
LOCATION:The World Theatre 2318 Central Avenue Kearney\, Nebraska
UID:e.1404.19207
SEQUENCE:3
DTSTAMP:20260424T141021Z
URL:https://members.kearneycoc.org/events/details/pretty-fire-19207
END:VEVENT

END:VCALENDAR
