BEGIN:VCALENDAR
VERSION:2.0
PRODID:-//ChamberMaster//Event Calendar 2.0//EN
METHOD:PUBLISH
X-PUBLISHED-TTL:P3D
REFRESH-INTERVAL:P3D
CALSCALE:GREGORIAN
BEGIN:VEVENT
DTSTART:20160611T173000Z
DTEND:20160611T203000Z
X-MICROSOFT-CDO-ALLDAYEVENT:FALSE
SUMMARY:Princess Day
DESCRIPTION:Girls ages 3-12 (must be accompanied by an adult) Includes hairstyle\, tiara\, mini manicure\, makeup\, photograph & craft frame\, Disney movie and Princess tea
X-ALT-DESC;FMTTYPE=text/html:Girls ages 3-12 (must be accompanied by an adult) Includes hairstyle\, tiara\, mini manicure\, makeup\, photograph &amp\; craft frame\, Disney movie and Princess tea
LOCATION:Homestead of Kearney 4205 6th Ave.
UID:e.1404.8753
SEQUENCE:3
DTSTAMP:20260421T184316Z
URL:https://members.kearneycoc.org/events/details/princess-day-06-11-2016-8753
END:VEVENT

END:VCALENDAR
