BEGIN:VCALENDAR
VERSION:2.0
PRODID:-//ChamberMaster//Event Calendar 2.0//EN
METHOD:PUBLISH
X-PUBLISHED-TTL:P3D
REFRESH-INTERVAL:P3D
CALSCALE:GREGORIAN
BEGIN:VEVENT
DTSTART:20210708T140000Z
DTEND:20210708T170000Z
X-MICROSOFT-CDO-ALLDAYEVENT:FALSE
SUMMARY:Princess for a Day!
DESCRIPTION:Explore Theater with Crane River Theater Company for Ages 4-6\n\nThis is for class option 1. Registration for class option 2 is a separate registration.
X-ALT-DESC;FMTTYPE=text/html:Explore Theater with Crane River Theater Company for Ages 4-6<br />\nThis is for class option 1. Registration for class option 2 is a separate registration.
LOCATION:Kearney Area Children's Museum
UID:e.1404.19282
SEQUENCE:3
DTSTAMP:20260424T035525Z
URL:https://members.kearneycoc.org/events/details/princess-for-a-day-19282
END:VEVENT

END:VCALENDAR
