BEGIN:VCALENDAR
VERSION:2.0
PRODID:-//ChamberMaster//Event Calendar 2.0//EN
METHOD:PUBLISH
X-PUBLISHED-TTL:P3D
REFRESH-INTERVAL:P3D
CALSCALE:GREGORIAN
BEGIN:VEVENT
DTSTART:20201024T150000Z
DTEND:20201024T190000Z
X-MICROSOFT-CDO-ALLDAYEVENT:FALSE
SUMMARY:Pumpkins on the Bricks
DESCRIPTION:Get out your tools and supplies! Downtown Kearney and 20 of its merchants are hosting a pumpkin carving and decorating contest on Saturday\, October 24th. To participate: 1) Sign up for a storefront location to display your pumpkin here: https://www.signupgenius.com/go/70A0C4DABAA2DAAF94-pumpkin. 2) Carve and/or decorate your pumpkin at home. 3) Bring your finished pumpkin to your pre-registered storefront location on Saturday\, October 24th by 10 AM. 4) Pick up your pumpkin by 4 PM that day. The pumpkins will be on display from 10 AM - 2 PM. Judging for 1st\, 2nd and 3rd place will be from 12-2 PM. A picture of each pumpkin will be taken for a slideshow to be posted on Halloween. The winners will be announced on Monday\, the 26th and will receive Downtown Kearney gift certificates. Happy carving and decorating!
X-ALT-DESC;FMTTYPE=text/html:Get out your tools and supplies! Downtown Kearney and 20 of its merchants are hosting a pumpkin carving and decorating contest on Saturday\, October 24th. To participate: 1) Sign up for a storefront location to display your pumpkin here: https://www.signupgenius.com/go/70A0C4DABAA2DAAF94-pumpkin. 2) Carve and/or decorate your pumpkin at home. 3) Bring your finished pumpkin to your pre-registered storefront location on Saturday\, October 24th by 10 AM. 4) Pick up your pumpkin by 4 PM that day. The pumpkins will be on display from 10 AM - 2 PM. Judging for 1st\, 2nd and 3rd place will be from 12-2 PM. A picture of each pumpkin will be taken for a slideshow to be posted on Halloween. The winners will be announced on Monday\, the 26th and will receive Downtown Kearney gift certificates. Happy carving and decorating!
LOCATION:Downtown Kearney
UID:e.1404.18733
SEQUENCE:3
DTSTAMP:20260424T204533Z
URL:https://members.kearneycoc.org/events/details/pumpkins-on-the-bricks-18733
END:VEVENT

END:VCALENDAR
