BEGIN:VCALENDAR
VERSION:2.0
PRODID:-//ChamberMaster//Event Calendar 2.0//EN
METHOD:PUBLISH
X-PUBLISHED-TTL:P3D
REFRESH-INTERVAL:P3D
CALSCALE:GREGORIAN
BEGIN:VEVENT
DTSTART;VALUE=DATE:20210415
DTEND;VALUE=DATE:20210418
TRANSP:TRANSPARENT
X-MICROSOFT-CDO-ALLDAYEVENT:TRUE
SUMMARY:Purses for a Purpose Online Auction
DESCRIPTION:Purses for a Purpose looks a little different this year\, yet continues to be a great opportunity to support The S.A.F.E. Center and survivors of domestic and sexual violence. The event will feature an online auction starting on Thursday\, April 15th at 8:00 a.m. and ending at 9:30 p.m. on Saturday\, April 17th. There will be a great variety of purses\, bags\, gift certificates\, trips\, and more! Make sure to sign up to bid at https://safecenter2021.ggo.bid\\.
X-ALT-DESC;FMTTYPE=text/html:Purses for a Purpose looks a little different this year\, yet continues to be a great opportunity to support The S.A.F.E. Center and survivors of domestic and sexual violence. The event will feature an online auction starting on Thursday\, April 15th at 8:00 a.m. and ending at 9:30 p.m. on Saturday\, April 17th. There will be a great variety of purses\, bags\, gift certificates\, trips\, and more! Make sure to sign up to bid at https://safecenter2021.ggo.bid\\.
LOCATION:online
UID:e.1404.19234
SEQUENCE:3
DTSTAMP:20260424T122602Z
URL:https://members.kearneycoc.org/events/details/purses-for-a-purpose-online-auction-04-15-2021-19234
END:VEVENT

END:VCALENDAR
