BEGIN:VCALENDAR
VERSION:2.0
PRODID:-//ChamberMaster//Event Calendar 2.0//EN
METHOD:PUBLISH
X-PUBLISHED-TTL:P3D
REFRESH-INTERVAL:P3D
CALSCALE:GREGORIAN
BEGIN:VEVENT
DTSTART:20200709T150000Z
DTEND:20200712T230000Z
X-MICROSOFT-CDO-ALLDAYEVENT:FALSE
SUMMARY:Purses for a Purpose Online Auction
DESCRIPTION:Join us for an online auction of purses\, products\, gift certificates\, and more to benefit The S.A.F.E. Center.
X-ALT-DESC;FMTTYPE=text/html:Join us for an online auction of purses\, products\, gift certificates\, and more to benefit The S.A.F.E. Center.
LOCATION:https://safe2020.ggo.bid/
UID:e.1404.18651
SEQUENCE:3
DTSTAMP:20260425T032851Z
URL:https://members.kearneycoc.org/events/details/purses-for-a-purpose-online-auction-18651
END:VEVENT

END:VCALENDAR
