BEGIN:VCALENDAR
VERSION:2.0
PRODID:-//ChamberMaster//Event Calendar 2.0//EN
METHOD:PUBLISH
X-PUBLISHED-TTL:P3D
REFRESH-INTERVAL:P3D
CALSCALE:GREGORIAN
BEGIN:VEVENT
DTSTART:20210417T190000Z
DTEND:20210417T230000Z
X-MICROSOFT-CDO-ALLDAYEVENT:FALSE
SUMMARY:Purses for a Purpose Showcase
DESCRIPTION:This event is an opportunity to come look at the items on the auction when you purchase a $30.00 ticket to attend the Purses for a Purpose Showcase at the Younes Conference Center on Saturday\, April 17th from 2:00-6:00 p.m. Attendees will be able to walk through and see all of the items in person and will get to take home a delicious dessert made from scratch by the Younes staff. Participants will also take home a swag bag with a value of over $30.00 that is full of fun items and coupons from local businesses.
X-ALT-DESC;FMTTYPE=text/html:This event is an opportunity to come look at the items on the auction when you purchase a $30.00 ticket to attend the Purses for a Purpose Showcase at the Younes Conference Center on Saturday\, April 17th from 2:00-6:00 p.m. Attendees will be able to walk through and see all of the items in person and will get to take home a delicious dessert made from scratch by the Younes staff. Participants will also take home a swag bag with a value of over $30.00 that is full of fun items and coupons from local businesses.
LOCATION:Younes Conference Center
UID:e.1404.19235
SEQUENCE:3
DTSTAMP:20260424T122027Z
URL:https://members.kearneycoc.org/events/details/purses-for-a-purpose-showcase-19235
END:VEVENT

END:VCALENDAR
