BEGIN:VCALENDAR
VERSION:2.0
PRODID:-//ChamberMaster//Event Calendar 2.0//EN
METHOD:PUBLISH
X-PUBLISHED-TTL:P3D
REFRESH-INTERVAL:P3D
CALSCALE:GREGORIAN
BEGIN:VEVENT
DTSTART:20130608T140000Z
DTEND:20130608T170000Z
X-MICROSOFT-CDO-ALLDAYEVENT:FALSE
SUMMARY:R.Y.D.E. Transit Community Open House
DESCRIPTION:R.Y.D.E Transit invites the community to tour their brand new facility during their Community Open House on Saturday\, June 8th from 9am-noon.\n\n\n\nRefreshments will be provided
X-ALT-DESC;FMTTYPE=text/html:R.Y.D.E Transit invites the community to tour their brand new facility during their Community Open House on Saturday\, June 8th from 9am-noon.<br />\n<br />\nRefreshments will be provided
LOCATION:715 East 11th Street
UID:e.1404.3228
SEQUENCE:3
DTSTAMP:20260424T081236Z
URL:https://members.kearneycoc.org/events/details/r-y-d-e-transit-community-open-house-06-08-2013-3228
END:VEVENT

END:VCALENDAR
