BEGIN:VCALENDAR
VERSION:2.0
PRODID:-//ChamberMaster//Event Calendar 2.0//EN
METHOD:PUBLISH
X-PUBLISHED-TTL:P3D
REFRESH-INTERVAL:P3D
CALSCALE:GREGORIAN
BEGIN:VEVENT
DTSTART:20150203T010000Z
DTEND:20150203T030000Z
X-MICROSOFT-CDO-ALLDAYEVENT:FALSE
SUMMARY:Rachel Price-Little Nebraska Towns Tour
DESCRIPTION:Rachel will be performing at Chapman Swifts Coffee House\, 2400 Central Avenue\, Monday night beginning at 7pm. Freed show\, get there early!
X-ALT-DESC;FMTTYPE=text/html:Rachel will be performing at Chapman Swifts Coffee House\, 2400 Central Avenue\, Monday night beginning at 7pm. Freed show\, get there early!
LOCATION:Chapman Swifts Coffee House 2400 Central Avenue
UID:e.1404.5992
SEQUENCE:3
DTSTAMP:20260422T212625Z
URL:https://members.kearneycoc.org/events/details/rachel-price-little-nebraska-towns-tour-02-02-2015-5992
END:VEVENT

END:VCALENDAR
