BEGIN:VCALENDAR
VERSION:2.0
PRODID:-//ChamberMaster//Event Calendar 2.0//EN
METHOD:PUBLISH
X-PUBLISHED-TTL:P3D
REFRESH-INTERVAL:P3D
CALSCALE:GREGORIAN
BEGIN:VEVENT
DTSTART:20210727T130000Z
DTEND:20210727T200000Z
X-MICROSOFT-CDO-ALLDAYEVENT:FALSE
SUMMARY:Rainforest Quest! Camp
DESCRIPTION:Youth Summer Camp for Ages 4-10
X-ALT-DESC;FMTTYPE=text/html:Youth Summer Camp for Ages 4-10
LOCATION:Kearney Area Children's Museum
UID:e.1404.19288
SEQUENCE:3
DTSTAMP:20260424T035149Z
URL:https://members.kearneycoc.org/events/details/rainforest-quest-camp-19288
END:VEVENT

END:VCALENDAR
