BEGIN:VCALENDAR
VERSION:2.0
PRODID:-//ChamberMaster//Event Calendar 2.0//EN
METHOD:PUBLISH
X-PUBLISHED-TTL:P3D
REFRESH-INTERVAL:P3D
CALSCALE:GREGORIAN
BEGIN:VEVENT
DTSTART:20160813T153000Z
DTEND:20160813T180000Z
X-MICROSOFT-CDO-ALLDAYEVENT:FALSE
SUMMARY:Raising Nebraska Science Saturday
DESCRIPTION:Join us for this coming Science Saturday: Bean Genes! Red Bean\, Black Bean\, Great Northern Bean and Pinto Bean   what makes a bean different? Come discover the impact of genes through this FREE interactive event that's fun for all ages!
X-ALT-DESC;FMTTYPE=text/html:<span style="color:black\;"><span style="font-family:calibri\,sans-serif\;"><span style="font-size:11.0pt\;">Join us for this coming Science Saturday: Bean Genes! Red Bean\, Black Bean\, Great Northern Bean and Pinto Bean &ndash\; what makes a bean different? Come discover the impact of genes through this FREE interactive event that&rsquo\;s fun for all ages!</span></span></span>
LOCATION:S Locust St & State Fair Blvd Grand Island\, NE 68801
UID:e.1404.8935
SEQUENCE:3
DTSTAMP:20260421T170849Z
URL:https://members.kearneycoc.org/events/details/raising-nebraska-science-saturday-08-13-2016-8935
END:VEVENT

END:VCALENDAR
