BEGIN:VCALENDAR
VERSION:2.0
PRODID:-//ChamberMaster//Event Calendar 2.0//EN
METHOD:PUBLISH
X-PUBLISHED-TTL:P3D
REFRESH-INTERVAL:P3D
CALSCALE:GREGORIAN
BEGIN:VEVENT
DTSTART:20190511T183000Z
DTEND:20190511T200000Z
X-MICROSOFT-CDO-ALLDAYEVENT:FALSE
SUMMARY:Rapunzel & Flynn Tea Party
DESCRIPTION:Bring your princess or prince to a dressy-casual tea party at TRU Cafe on the Bricks at 2100 Central Avenue on Saturday\, May 11th at 11:00 AM or 1:30 and meet Rapunzel & Flynn. Enjoy a light meal\, tea\, music\, singing\, pictures and autographs. Tickets are $20 and go on sale Monday\, April 1st here: https://www.eventbrite.com/e/rapunzel-flynn-tea-party-tickets-59104330644. Space is limited. All attendees need a ticket and children must be accompanied by an adult. They are not available at TRU Cafe.
X-ALT-DESC;FMTTYPE=text/html:Bring your princess or prince to a dressy-casual tea party at TRU Cafe on the Bricks at 2100 Central Avenue on Saturday\, May 11th at 11:00 AM or 1:30 and meet Rapunzel &amp\; Flynn. Enjoy a light meal\, tea\, music\, singing\, pictures and autographs. Tickets are $20 and go on sale Monday\, April 1st here: https://www.eventbrite.com/e/rapunzel-flynn-tea-party-tickets-59104330644. Space is limited. All attendees need a ticket and children must be accompanied by an adult. They are not available at TRU Cafe.
LOCATION:TRU Cafe 2100 Central Avenue Kearney\, NE
UID:e.1404.15435
SEQUENCE:3
DTSTAMP:20260426T005247Z
URL:https://members.kearneycoc.org/events/details/rapunzel-flynn-tea-party-05-11-2019-15435
END:VEVENT

END:VCALENDAR
