BEGIN:VCALENDAR
VERSION:2.0
PRODID:-//ChamberMaster//Event Calendar 2.0//EN
METHOD:PUBLISH
X-PUBLISHED-TTL:P3D
REFRESH-INTERVAL:P3D
CALSCALE:GREGORIAN
BEGIN:VEVENT
DTSTART:20201023T150000Z
DTEND:20201023T160000Z
X-MICROSOFT-CDO-ALLDAYEVENT:FALSE
SUMMARY:RC - Adam Marshall Land & Auction
DESCRIPTION:Please join us for a Ribbon Cutting ceremony for the new location of Adam Marshall Land & Auction\, LLC!\n\n\n\n**Masks and social distancing encouraged.**
X-ALT-DESC;FMTTYPE=text/html:Please join us for a Ribbon Cutting ceremony for the new location of <a href="https://www.adammarshallauction.com/">Adam Marshall Land &amp\; Auction\, LLC</a>!<br />\n<br />\n**Masks and social distancing encouraged.**
LOCATION:17675 Highway 30
UID:e.1404.18710
SEQUENCE:3
DTSTAMP:20260424T223439Z
URL:https://members.kearneycoc.org/events/details/rc-adam-marshall-land-auction-18710
END:VEVENT

END:VCALENDAR
