BEGIN:VCALENDAR
VERSION:2.0
PRODID:-//ChamberMaster//Event Calendar 2.0//EN
METHOD:PUBLISH
X-PUBLISHED-TTL:P3D
REFRESH-INTERVAL:P3D
CALSCALE:GREGORIAN
BEGIN:VEVENT
DTSTART:20150430T160000Z
DTEND:20150430T180000Z
X-MICROSOFT-CDO-ALLDAYEVENT:FALSE
SUMMARY:RC: Alzheimer's Association
DESCRIPTION:Join us for a Ribbon Cutting Ceremony at 11:00 am followed by an open house with lunch from Cunningham's Journal that will include Cunningham's Famous Skewers -- both the trio and bacon wrapped shrimp -- and exquisite side dishes.  All this will be served outside on the side of the building under a big white tent where tables/chairs will be set up.
X-ALT-DESC;FMTTYPE=text/html:<span style="font-family:arial\;"><span style="font-size:14px\;">Join us for a Ribbon Cutting Ceremony at 11:00&nbsp\;am&nbsp\;followed by an open house with lunch from Cunningham&#39\;s Journal that will include Cunningham&#39\;s Famous Skewers -- both the trio and bacon wrapped shrimp -- and exquisite side</span></span><span style="font-family:arial\;"><span style="font-size:14px\;">&nbsp\;dishes.&nbsp\; All this will be served outside on the side of the building under a big white tent where tables/chairs will be set up.</span></span>
LOCATION:207 W 29th St. Ste B
UID:e.1404.6158
SEQUENCE:3
DTSTAMP:20260422T195504Z
URL:https://members.kearneycoc.org/events/details/rc-alzheimer-s-association-04-30-2015-6158
END:VEVENT

END:VCALENDAR
