BEGIN:VCALENDAR
VERSION:2.0
PRODID:-//ChamberMaster//Event Calendar 2.0//EN
METHOD:PUBLISH
X-PUBLISHED-TTL:P3D
REFRESH-INTERVAL:P3D
CALSCALE:GREGORIAN
BEGIN:VEVENT
DTSTART:20140210T180000Z
DTEND:20140210T190000Z
X-MICROSOFT-CDO-ALLDAYEVENT:FALSE
SUMMARY:RC: American Family Insurance
DESCRIPTION:
X-ALT-DESC;FMTTYPE=text/html:
LOCATION:512 W 11th St Kearney\, NE
UID:e.1404.4440
SEQUENCE:3
DTSTAMP:20260423T181403Z
URL:https://members.kearneycoc.org/events/details/rc-american-family-insurance-02-10-2014-4440
END:VEVENT

END:VCALENDAR
