BEGIN:VCALENDAR
VERSION:2.0
PRODID:-//ChamberMaster//Event Calendar 2.0//EN
METHOD:PUBLISH
X-PUBLISHED-TTL:P3D
REFRESH-INTERVAL:P3D
CALSCALE:GREGORIAN
BEGIN:VEVENT
DTSTART:20191115T220000Z
DTEND:20191115T230000Z
X-MICROSOFT-CDO-ALLDAYEVENT:FALSE
SUMMARY:RC - Anytime Fitness
DESCRIPTION:Join us for a Ribbon Cutting ceremony for a new addition to Anytime Fitness!
X-ALT-DESC;FMTTYPE=text/html:Join us for a Ribbon Cutting ceremony for a new addition to <a href="https://www.anytimefitness.com/">Anytime Fitness</a>!
LOCATION:810 E 56th St. Ste 2 Kearney NE
UID:e.1404.18254
SEQUENCE:3
DTSTAMP:20260425T150322Z
URL:https://members.kearneycoc.org/events/details/rc-anytime-fitness-18254
END:VEVENT

END:VCALENDAR
