BEGIN:VCALENDAR
VERSION:2.0
PRODID:-//ChamberMaster//Event Calendar 2.0//EN
METHOD:PUBLISH
X-PUBLISHED-TTL:P3D
REFRESH-INTERVAL:P3D
CALSCALE:GREGORIAN
BEGIN:VEVENT
DTSTART:20141125T220000Z
DTEND:20141125T223000Z
X-MICROSOFT-CDO-ALLDAYEVENT:FALSE
SUMMARY:RC: Apache Camper Center
DESCRIPTION:Ribbon Cutting Ceremony for the new Apache Camper Center.
X-ALT-DESC;FMTTYPE=text/html:Ribbon Cutting Ceremony for the new Apache Camper Center.
LOCATION:115 East 1st Street
UID:e.1404.5380
SEQUENCE:3
DTSTAMP:20260423T033911Z
URL:https://members.kearneycoc.org/events/details/rc-apache-camper-center-11-25-2014-5380
END:VEVENT

END:VCALENDAR
