BEGIN:VCALENDAR
VERSION:2.0
PRODID:-//ChamberMaster//Event Calendar 2.0//EN
METHOD:PUBLISH
X-PUBLISHED-TTL:P3D
REFRESH-INTERVAL:P3D
CALSCALE:GREGORIAN
BEGIN:VEVENT
DTSTART:20190611T143000Z
DTEND:20190611T150000Z
X-MICROSOFT-CDO-ALLDAYEVENT:FALSE
SUMMARY:RC - Applied Industrial Technologies
DESCRIPTION:Please join us for a Ribbon Cutting ceremony for Applied Industrial Technologies!
X-ALT-DESC;FMTTYPE=text/html:Please join us for a Ribbon Cutting ceremony for Applied Industrial Technologies!
LOCATION:3010 E 39th St. Ste 3
UID:e.1404.15975
SEQUENCE:3
DTSTAMP:20260425T230647Z
URL:https://members.kearneycoc.org/events/details/rc-applied-industrial-technologies-15975
END:VEVENT

END:VCALENDAR
