BEGIN:VCALENDAR
VERSION:2.0
PRODID:-//ChamberMaster//Event Calendar 2.0//EN
METHOD:PUBLISH
X-PUBLISHED-TTL:P3D
REFRESH-INTERVAL:P3D
CALSCALE:GREGORIAN
BEGIN:VEVENT
DTSTART:20161110T160000Z
DTEND:20161110T170000Z
X-MICROSOFT-CDO-ALLDAYEVENT:FALSE
SUMMARY:RC: Auto Value Parts Store
DESCRIPTION:Join us for a ribbon cutting at Auto Value Parts Store. They're under new ownership-come meet the staff and stay for refreshments.
X-ALT-DESC;FMTTYPE=text/html:Join us for a ribbon cutting at Auto Value Parts Store. They&#39\;re under new ownership-come meet the staff and stay for refreshments.
LOCATION:1204 Central Avenue
UID:e.1404.9076
SEQUENCE:3
DTSTAMP:20260421T101748Z
URL:https://members.kearneycoc.org/events/details/rc-auto-value-parts-store-9076
END:VEVENT

END:VCALENDAR
