BEGIN:VCALENDAR
VERSION:2.0
PRODID:-//ChamberMaster//Event Calendar 2.0//EN
METHOD:PUBLISH
X-PUBLISHED-TTL:P3D
REFRESH-INTERVAL:P3D
CALSCALE:GREGORIAN
BEGIN:VEVENT
DTSTART:20220623T220000Z
DTEND:20220624T000000Z
X-MICROSOFT-CDO-ALLDAYEVENT:FALSE
SUMMARY:RC/BAH - Century 21 Midlands
DESCRIPTION:Join us to celebrate with Century 21 Midlands at their new office location with a Ribbon Cutting ceremony\, followed by a Business After Hours!
X-ALT-DESC;FMTTYPE=text/html:Join us to celebrate with Century 21 Midlands at their new office location with a Ribbon Cutting ceremony\, followed by a Business After Hours!&nbsp\;
LOCATION:Century 21 Midlands 3715 29th Ave. Suite B Kearney\, NE 68845
UID:e.1404.19742
SEQUENCE:3
DTSTAMP:20260423T101826Z
URL:https://members.kearneycoc.org/events/details/rc-bah-century-21-midlands-19742
END:VEVENT

END:VCALENDAR
