BEGIN:VCALENDAR
VERSION:2.0
PRODID:-//ChamberMaster//Event Calendar 2.0//EN
METHOD:PUBLISH
X-PUBLISHED-TTL:P3D
REFRESH-INTERVAL:P3D
CALSCALE:GREGORIAN
BEGIN:VEVENT
DTSTART:20220331T220000Z
DTEND:20220401T000000Z
X-MICROSOFT-CDO-ALLDAYEVENT:FALSE
SUMMARY:RC/BAH Suite Child
DESCRIPTION:Join us for a Ribbon Cutting AND Business After Hours event at Suite Child to celebrate their recent store renovations!
X-ALT-DESC;FMTTYPE=text/html:Join us for a Ribbon Cutting AND Business After Hours event at Suite Child to celebrate their recent store renovations!
LOCATION:2304 Central Ave. Kearney\, NE 68845
UID:e.1404.19651
SEQUENCE:3
DTSTAMP:20260423T145732Z
URL:https://members.kearneycoc.org/events/details/rc-bah-suite-child-19651
END:VEVENT

END:VCALENDAR
