BEGIN:VCALENDAR
VERSION:2.0
PRODID:-//ChamberMaster//Event Calendar 2.0//EN
METHOD:PUBLISH
X-PUBLISHED-TTL:P3D
REFRESH-INTERVAL:P3D
CALSCALE:GREGORIAN
BEGIN:VEVENT
DTSTART:20210427T140000Z
DTEND:20210427T150000Z
X-MICROSOFT-CDO-ALLDAYEVENT:FALSE
SUMMARY:RC - Barney Financial Services and Barney Insurance
DESCRIPTION:Please join us for a Ribbon Cutting ceremony for Barney Financial Services and Barney Insurance!
X-ALT-DESC;FMTTYPE=text/html:Please join us for a Ribbon Cutting ceremony for <a href="https://www.barneyfinancial.net/">Barney Financial Services</a> and <a href="https://barneyinsurance.net/">Barney Insurance</a>!
LOCATION:5508 Ave. N
UID:e.1404.18702
SEQUENCE:3
DTSTAMP:20260424T122753Z
URL:https://members.kearneycoc.org/events/details/rc-barney-financial-services-and-barney-insurance-18702
END:VEVENT

END:VCALENDAR
