BEGIN:VCALENDAR
VERSION:2.0
PRODID:-//ChamberMaster//Event Calendar 2.0//EN
METHOD:PUBLISH
X-PUBLISHED-TTL:P3D
REFRESH-INTERVAL:P3D
CALSCALE:GREGORIAN
BEGIN:VEVENT
DTSTART:20211001T180000Z
DTEND:20211001T190000Z
X-MICROSOFT-CDO-ALLDAYEVENT:FALSE
SUMMARY:RC - Birdies and Brews
DESCRIPTION:Join us for the Grand Opening of Birdies and Brews!
X-ALT-DESC;FMTTYPE=text/html:Join us for the Grand Opening of Birdies and Brews!&nbsp\;
LOCATION:5915 2nd Ave.\, Ste. 4 Kearney\, NE 68847
UID:e.1404.19376
SEQUENCE:3
DTSTAMP:20260423T232944Z
URL:https://members.kearneycoc.org/events/details/rc-birdies-and-brews-19376
END:VEVENT

END:VCALENDAR
