BEGIN:VCALENDAR
VERSION:2.0
PRODID:-//ChamberMaster//Event Calendar 2.0//EN
METHOD:PUBLISH
X-PUBLISHED-TTL:P3D
REFRESH-INTERVAL:P3D
CALSCALE:GREGORIAN
BEGIN:VEVENT
DTSTART:20151014T150000Z
DTEND:20151014T153000Z
X-MICROSOFT-CDO-ALLDAYEVENT:FALSE
SUMMARY:RC: Bow & Arrow Boutique
DESCRIPTION:Join us in a ribbon cutting ceremony for the new Bow and Arrow Boutique! They offer a wide selection of ladies & gentleman's fashion with an array of sizing and styles to suit any age. Geared up for the college student\, professional\, and anyone who loves sensible style! If what you are seeking is high style at an affordable price\, Bow and Arrow Boutique is your fashion destination! Let our personal stylists help you create the perfect look for any occasion.\n\nBe elegant\, Be fresh\, Shop Bow and Arrow Boutique!
X-ALT-DESC;FMTTYPE=text/html:<p style="border: 0px\; margin: 0px 0px 15px\; padding: 0px\; font-size: 14px\; color: rgb(49\, 47\, 47)\; font-family: museo300\; line-height: 19.25px\;">Join us in a ribbon cutting ceremony for the new Bow and Arrow Boutique! They&nbsp\;offer&nbsp\;a wide selection of ladies &amp\; gentleman&rsquo\;s fashion with an array of sizing and styles to suit any age. Geared up for the&nbsp\;college student\, professional\, and anyone who loves sensible style! If what you are&nbsp\;seeking is high style at an affordable price\, Bow and Arrow Boutique is your fashion destination! Let our personal stylists help you create the perfect look for any occasion.</p>\n\n<p style="border: 0px\; margin: 0px 0px 15px\; padding: 0px\; font-size: 14px\; color: rgb(49\, 47\, 47)\; font-family: museo300\; line-height: 19.25px\;">Be elegant\, Be fresh\, Shop Bow and Arrow Boutique!</p>\n
LOCATION:2112 Central Ave
UID:e.1404.7014
SEQUENCE:3
DTSTAMP:20260422T083714Z
URL:https://members.kearneycoc.org/events/details/rc-bow-arrow-boutique-10-14-2015-7014
END:VEVENT

END:VCALENDAR
