BEGIN:VCALENDAR
VERSION:2.0
PRODID:-//ChamberMaster//Event Calendar 2.0//EN
METHOD:PUBLISH
X-PUBLISHED-TTL:P3D
REFRESH-INTERVAL:P3D
CALSCALE:GREGORIAN
BEGIN:VEVENT
DTSTART:20210430T210000Z
DTEND:20210430T220000Z
X-MICROSOFT-CDO-ALLDAYEVENT:FALSE
SUMMARY:RC - Brix
DESCRIPTION:Join us for a Ribbon Cutting ceremony to help the Brix celebrate their grand opening!
X-ALT-DESC;FMTTYPE=text/html:Join us for a Ribbon Cutting ceremony to help the <a href="http://www.BrixKearney.com/">Brix</a> celebrate their grand opening!
LOCATION:Brix Downtown Kearney 14 E 21st St.
UID:e.1404.19266
SEQUENCE:3
DTSTAMP:20260424T101345Z
URL:https://members.kearneycoc.org/events/details/rc-brix-19266
END:VEVENT

END:VCALENDAR
