BEGIN:VCALENDAR
VERSION:2.0
PRODID:-//ChamberMaster//Event Calendar 2.0//EN
METHOD:PUBLISH
X-PUBLISHED-TTL:P3D
REFRESH-INTERVAL:P3D
CALSCALE:GREGORIAN
BEGIN:VEVENT
DTSTART:20150624T160000Z
DTEND:20150624T180000Z
X-MICROSOFT-CDO-ALLDAYEVENT:FALSE
SUMMARY:RC: Brookdale Kearney Northridge
DESCRIPTION:Brookdale Kearney Northridge will be celebrating their rebranding! Kicking the open house off with a Ribbon Cutting Ceremony followed by food\, beverages and tours!
X-ALT-DESC;FMTTYPE=text/html:Brookdale Kearney&nbsp\;Northridge will be celebrating their rebranding! Kicking the open house off with a Ribbon Cutting Ceremony followed by food\, beverages and tours!
LOCATION:5410 17th Ave
UID:e.1404.6248
SEQUENCE:3
DTSTAMP:20260422T152438Z
URL:https://members.kearneycoc.org/events/details/rc-brookdale-kearney-northridge-06-24-2015-6248
END:VEVENT

END:VCALENDAR
