BEGIN:VCALENDAR
VERSION:2.0
PRODID:-//ChamberMaster//Event Calendar 2.0//EN
METHOD:PUBLISH
X-PUBLISHED-TTL:P3D
REFRESH-INTERVAL:P3D
CALSCALE:GREGORIAN
BEGIN:VEVENT
DTSTART:20150824T150000Z
DTEND:20150824T153000Z
X-MICROSOFT-CDO-ALLDAYEVENT:FALSE
SUMMARY:RC: Buffalo Wild Wings
DESCRIPTION:Join us in welcoming Buffalo Wild Wings to Kearney! They will be hosting a ribbon cutting ceremony at 10am and officially opening at 11am!
X-ALT-DESC;FMTTYPE=text/html:Join us in welcoming Buffalo Wild Wings to Kearney! They will be hosting a ribbon cutting ceremony at 10am and officially opening&nbsp\;at 11am!
LOCATION:5208 2nd Avenue
UID:e.1404.6635
SEQUENCE:3
DTSTAMP:20260422T114558Z
URL:https://members.kearneycoc.org/events/details/rc-buffalo-wild-wings-08-24-2015-6635
END:VEVENT

END:VCALENDAR
