BEGIN:VCALENDAR
VERSION:2.0
PRODID:-//ChamberMaster//Event Calendar 2.0//EN
METHOD:PUBLISH
X-PUBLISHED-TTL:P3D
REFRESH-INTERVAL:P3D
CALSCALE:GREGORIAN
BEGIN:VEVENT
DTSTART:20140912T170000Z
DTEND:20140912T173000Z
X-MICROSOFT-CDO-ALLDAYEVENT:FALSE
SUMMARY:RC-Builders Design Center
DESCRIPTION:Grand Reopening and Reveal of the New Design Center!
X-ALT-DESC;FMTTYPE=text/html:Grand Reopening and Reveal of the New Design Center!
LOCATION:4600 2nd Avenue
UID:e.1404.5321
SEQUENCE:3
DTSTAMP:20260423T083442Z
URL:https://members.kearneycoc.org/events/details/rc-builders-design-center-09-12-2014-5321
END:VEVENT

END:VCALENDAR
