BEGIN:VCALENDAR
VERSION:2.0
PRODID:-//ChamberMaster//Event Calendar 2.0//EN
METHOD:PUBLISH
X-PUBLISHED-TTL:P3D
REFRESH-INTERVAL:P3D
CALSCALE:GREGORIAN
BEGIN:VEVENT
DTSTART:20220830T150000Z
DTEND:20220830T160000Z
X-MICROSOFT-CDO-ALLDAYEVENT:FALSE
SUMMARY:RC Butler Ag Equipment new location!
DESCRIPTION:Join us for a Ribbon Cutting ceremony to celebrate the Grand Opening of the new location of Butler Ag Equipment!
X-ALT-DESC;FMTTYPE=text/html:Join us for a Ribbon Cutting ceremony to celebrate the Grand Opening of the new location of Butler Ag Equipment!
LOCATION:Butler Ag Equipment 4000 E 47th Street Kearney\, NE 68847
UID:e.1404.20039
SEQUENCE:3
DTSTAMP:20260421T102808Z
URL:https://members.kearneycoc.org/events/details/rc-butler-ag-equipment-new-location-20039
END:VEVENT

END:VCALENDAR
