BEGIN:VCALENDAR
VERSION:2.0
PRODID:-//ChamberMaster//Event Calendar 2.0//EN
METHOD:PUBLISH
X-PUBLISHED-TTL:P3D
REFRESH-INTERVAL:P3D
CALSCALE:GREGORIAN
BEGIN:VEVENT
DTSTART:20140624T170000Z
DTEND:20140624T180000Z
X-MICROSOFT-CDO-ALLDAYEVENT:FALSE
SUMMARY:RC:Cash-Wa Dist Co
DESCRIPTION:New 100\,000 square foot distribution center. Refreshments will be served.
X-ALT-DESC;FMTTYPE=text/html:New&nbsp\;100\,000 square foot&nbsp\;distribution center. Refreshments will be served.
LOCATION:401 W 4th Street
UID:e.1404.4851
SEQUENCE:3
DTSTAMP:20260423T113954Z
URL:https://members.kearneycoc.org/events/details/rc-cash-wa-dist-co-06-24-2014-4851
END:VEVENT

END:VCALENDAR
