BEGIN:VCALENDAR
VERSION:2.0
PRODID:-//ChamberMaster//Event Calendar 2.0//EN
METHOD:PUBLISH
X-PUBLISHED-TTL:P3D
REFRESH-INTERVAL:P3D
CALSCALE:GREGORIAN
BEGIN:VEVENT
DTSTART:20150520T170000Z
DTEND:20150520T173000Z
X-MICROSOFT-CDO-ALLDAYEVENT:FALSE
SUMMARY:RC:Central States Safety & Driver Training\, LLC.
DESCRIPTION:Ribbon Cutting Ceremony for Central States Safety & Driver Training\, LLC.!
X-ALT-DESC;FMTTYPE=text/html:Ribbon Cutting Ceremony for&nbsp\;<em><span style="color:#333333\;">Central States Safety &amp\; Driver Training\, LLC.!&nbsp\;</span></em>
LOCATION:2515 Grand Avenue
UID:e.1404.6233
SEQUENCE:3
DTSTAMP:20260422T165110Z
URL:https://members.kearneycoc.org/events/details/rc-central-states-safety-driver-training-llc-05-20-2015-6233
END:VEVENT

END:VCALENDAR
