BEGIN:VCALENDAR
VERSION:2.0
PRODID:-//ChamberMaster//Event Calendar 2.0//EN
METHOD:PUBLISH
X-PUBLISHED-TTL:P3D
REFRESH-INTERVAL:P3D
CALSCALE:GREGORIAN
BEGIN:VEVENT
DTSTART:20190820T190000Z
DTEND:20190820T193000Z
X-MICROSOFT-CDO-ALLDAYEVENT:FALSE
SUMMARY:RC - Cervelle Consulting Services
DESCRIPTION:Join us for a Ribbon Cutting ceremony for Cervelle Consulting Services!
X-ALT-DESC;FMTTYPE=text/html:Join us for a Ribbon Cutting ceremony for Cervelle Consulting Services!
LOCATION:2121 Ave B.\, Ste 3 Kearney NE
UID:e.1404.16598
SEQUENCE:3
DTSTAMP:20260425T195343Z
URL:https://members.kearneycoc.org/events/details/rc-cervelle-consulting-services-16598
END:VEVENT

END:VCALENDAR
