BEGIN:VCALENDAR
VERSION:2.0
PRODID:-//ChamberMaster//Event Calendar 2.0//EN
METHOD:PUBLISH
X-PUBLISHED-TTL:P3D
REFRESH-INTERVAL:P3D
CALSCALE:GREGORIAN
BEGIN:VEVENT
DTSTART:20210624T213000Z
DTEND:20210624T233000Z
X-MICROSOFT-CDO-ALLDAYEVENT:FALSE
SUMMARY:RC - Christine's Horseback Riding
DESCRIPTION:Join us for a Ribbon Cutting with Christine's Horseback Riding!
X-ALT-DESC;FMTTYPE=text/html:Join us for a Ribbon Cutting with Christine&#39\;s Horseback Riding!
LOCATION:8215 Hidden Hills Road Kearney\, NE 68847
UID:e.1404.19323
SEQUENCE:3
DTSTAMP:20260424T060648Z
URL:https://members.kearneycoc.org/events/details/rc-christine-s-horseback-riding-19323
END:VEVENT

END:VCALENDAR
