BEGIN:VCALENDAR
VERSION:2.0
PRODID:-//ChamberMaster//Event Calendar 2.0//EN
METHOD:PUBLISH
X-PUBLISHED-TTL:P3D
REFRESH-INTERVAL:P3D
CALSCALE:GREGORIAN
BEGIN:VEVENT
DTSTART:20211118T220000Z
DTEND:20211118T230000Z
X-MICROSOFT-CDO-ALLDAYEVENT:FALSE
SUMMARY:RC - Classic Car Collection
DESCRIPTION:Join us for a Ribbon Cutting to celebrate new ownership of the Classic Car Collection!\n\n\n\nNew owner Alan Gentz of Sterling\, CO will be on hand. The collection is also celebrating a 10 year anniversary\, as it opened on Black Friday\, 2011. Approximately 210 cars are currently on display\, and the Collection covers 50\,000 square feet! Special events are planned for Thursday\, Friday & Saturday to celebrate the anniversary of the museum. Join us!
X-ALT-DESC;FMTTYPE=text/html:Join us for a Ribbon Cutting to celebrate new ownership of the Classic Car Collection!<br />\n<br />\nNew owner Alan Gentz of Sterling\, CO will be on hand. The collection is also celebrating a 10 year anniversary\, as it opened on Black Friday\, 2011. Approximately 210 cars are currently on display\, and the Collection covers 50\,000 square feet! Special events are planned for Thursday\, Friday &amp\; Saturday to celebrate the anniversary of the museum. Join us!
LOCATION:3600 E. Hwy 30 Ste. B Kearney\, NE 68847
UID:e.1404.19427
SEQUENCE:3
DTSTAMP:20260423T231038Z
URL:https://members.kearneycoc.org/events/details/rc-classic-car-collection-19427
END:VEVENT

END:VCALENDAR
