BEGIN:VCALENDAR
VERSION:2.0
PRODID:-//ChamberMaster//Event Calendar 2.0//EN
METHOD:PUBLISH
X-PUBLISHED-TTL:P3D
REFRESH-INTERVAL:P3D
CALSCALE:GREGORIAN
BEGIN:VEVENT
DTSTART:20220504T150000Z
DTEND:20220504T160000Z
X-MICROSOFT-CDO-ALLDAYEVENT:FALSE
SUMMARY:RC/Coffee & Company with Farmers Union Midwest Agency
DESCRIPTION:Join us for a Ribbon Cutting and Coffee & Company with Farmers Union Midwest Agency to celebrate the Grand Opening of their new office and new partnership.
X-ALT-DESC;FMTTYPE=text/html:Join us for a Ribbon Cutting and Coffee &amp\; Company with Farmers Union Midwest Agency to celebrate the Grand Opening of their new office and new partnership.
LOCATION:Farmers Union Midwest Agency 409 E 25th Street\, Ste. 5 Kearney\, NE 68847
UID:e.1404.19669
SEQUENCE:3
DTSTAMP:20260423T114136Z
URL:https://members.kearneycoc.org/events/details/rc-coffee-company-with-farmers-union-midwest-agency-19669
END:VEVENT

END:VCALENDAR
