BEGIN:VCALENDAR
VERSION:2.0
PRODID:-//ChamberMaster//Event Calendar 2.0//EN
METHOD:PUBLISH
X-PUBLISHED-TTL:P3D
REFRESH-INTERVAL:P3D
CALSCALE:GREGORIAN
BEGIN:VEVENT
DTSTART:20150812T140000Z
DTEND:20150812T143000Z
X-MICROSOFT-CDO-ALLDAYEVENT:FALSE
SUMMARY:RC: Compass
DESCRIPTION:Join us for a ribbon cutting ceremony at the new office location of Compass! Jeff Tremel\,Site Manager for Monsanto Seeds will be presenting Compass with a check for their on-site family nutrition center to help families with relationship and skill building. Refreshments provided by Egg & I.
X-ALT-DESC;FMTTYPE=text/html:Join us for a ribbon cutting ceremony at the new office location of Compass! Jeff Tremel\,Site Manager for Monsanto Seeds will be presenting Compass with a check for their on-site family&nbsp\;nutrition center to help&nbsp\;families&nbsp\;with relationship and skill building.&nbsp\;<span style="line-height: 20.7999992370605px\;">Refreshme</span><span style="line-height: 20.7999992370605px\;">nts</span><span style="line-height: 20.7999992370605px\;">&nbsp\;provided by Egg &amp\; I.</span>
LOCATION:514 W 11th St
UID:e.1404.6495
SEQUENCE:3
DTSTAMP:20260422T114223Z
URL:https://members.kearneycoc.org/events/details/rc-compass-08-12-2015-6495
END:VEVENT

END:VCALENDAR
