BEGIN:VCALENDAR
VERSION:2.0
PRODID:-//ChamberMaster//Event Calendar 2.0//EN
METHOD:PUBLISH
X-PUBLISHED-TTL:P3D
REFRESH-INTERVAL:P3D
CALSCALE:GREGORIAN
BEGIN:VEVENT
DTSTART:20211201T153000Z
DTEND:20211201T163000Z
X-MICROSOFT-CDO-ALLDAYEVENT:FALSE
SUMMARY:RC - COMPASS Nebraska
DESCRIPTION:Join us for a Ribbon Cutting ceremony to celebrate the new outpatient therapy program and new remodels at COMPASS Nebraska!
X-ALT-DESC;FMTTYPE=text/html:Join us for a Ribbon Cutting ceremony to celebrate the new outpatient therapy program and new remodels at COMPASS Nebraska!
LOCATION:514 W 11th Street Kearney\, NE 68845
UID:e.1404.19405
SEQUENCE:3
DTSTAMP:20260423T195018Z
URL:https://members.kearneycoc.org/events/details/rc-compass-nebraska-19405
END:VEVENT

END:VCALENDAR
