BEGIN:VCALENDAR
VERSION:2.0
PRODID:-//ChamberMaster//Event Calendar 2.0//EN
METHOD:PUBLISH
X-PUBLISHED-TTL:P3D
REFRESH-INTERVAL:P3D
CALSCALE:GREGORIAN
BEGIN:VEVENT
DTSTART:20150925T160000Z
DTEND:20150925T170000Z
X-MICROSOFT-CDO-ALLDAYEVENT:FALSE
SUMMARY:RC: Complete Weddings & Events
DESCRIPTION:Join us for the Grand Opening Celebration for their new building! Will kick the celebration off with a ribbon cutting at 11am followed by open house until 1pm.
X-ALT-DESC;FMTTYPE=text/html:Join us for the Grand Opening Celebration for their new building! Will kick the celebration off with a ribbon cutting at 11am followed by open house until 1pm.
LOCATION:2412 Central Ave
UID:e.1404.6696
SEQUENCE:3
DTSTAMP:20260422T101457Z
URL:https://members.kearneycoc.org/events/details/rc-complete-weddings-events-09-25-2015-6696
END:VEVENT

END:VCALENDAR
