BEGIN:VCALENDAR
VERSION:2.0
PRODID:-//ChamberMaster//Event Calendar 2.0//EN
METHOD:PUBLISH
X-PUBLISHED-TTL:P3D
REFRESH-INTERVAL:P3D
CALSCALE:GREGORIAN
BEGIN:VEVENT
DTSTART:20161017T200000Z
DTEND:20161017T210000Z
X-MICROSOFT-CDO-ALLDAYEVENT:FALSE
SUMMARY:RC: Corky Creations
DESCRIPTION:Come celebrate Corky Creations 2nd birthday with a ribbon cutting/open house.
X-ALT-DESC;FMTTYPE=text/html:Come celebrate Corky Creations 2nd birthday with a ribbon cutting/open house.
LOCATION:1220 Central Ave. Ste #2
UID:e.1404.9051
SEQUENCE:3
DTSTAMP:20260421T122422Z
URL:https://members.kearneycoc.org/events/details/rc-corky-creations-9051
END:VEVENT

END:VCALENDAR
